BEGIN:VCALENDAR
VERSION:2.0
PRODID:-//Cork Bar &amp; Restaurant - ECPv6.15.17//NONSGML v1.0//EN
CALSCALE:GREGORIAN
METHOD:PUBLISH
X-ORIGINAL-URL:https://corkdining.com
X-WR-CALDESC:Events for Cork Bar &amp; Restaurant
REFRESH-INTERVAL;VALUE=DURATION:PT1H
X-Robots-Tag:noindex
X-PUBLISHED-TTL:PT1H
BEGIN:VTIMEZONE
TZID:America/New_York
BEGIN:DAYLIGHT
TZOFFSETFROM:-0500
TZOFFSETTO:-0400
TZNAME:EDT
DTSTART:20250309T070000
END:DAYLIGHT
BEGIN:STANDARD
TZOFFSETFROM:-0400
TZOFFSETTO:-0500
TZNAME:EST
DTSTART:20251102T060000
END:STANDARD
BEGIN:DAYLIGHT
TZOFFSETFROM:-0500
TZOFFSETTO:-0400
TZNAME:EDT
DTSTART:20260308T070000
END:DAYLIGHT
BEGIN:STANDARD
TZOFFSETFROM:-0400
TZOFFSETTO:-0500
TZNAME:EST
DTSTART:20261101T060000
END:STANDARD
BEGIN:DAYLIGHT
TZOFFSETFROM:-0500
TZOFFSETTO:-0400
TZNAME:EDT
DTSTART:20270314T070000
END:DAYLIGHT
BEGIN:STANDARD
TZOFFSETFROM:-0400
TZOFFSETTO:-0500
TZNAME:EST
DTSTART:20271107T060000
END:STANDARD
END:VTIMEZONE
BEGIN:VEVENT
DTSTART;TZID=America/New_York:20260208T150000
DTEND;TZID=America/New_York:20260208T200000
DTSTAMP:20260419T090505
CREATED:20260129T183150Z
LAST-MODIFIED:20260129T183150Z
UID:8040-1770562800-1770580800@corkdining.com
SUMMARY:Cork - Sinatra Sunday
DESCRIPTION:
URL:https://corkdining.com/event/cork-sinatra-sunday-6/
LOCATION:Cork Dining\, 463 Madison St\, Wilkes-Barre\, PA\, 18705\, United States
CATEGORIES:Sinatra Sunday
ATTACH;FMTTYPE=image/jpeg:https://corkdining.com/wp-content/uploads/2026/01/Cork-Sinatra-Sunday-Menu.jpg
END:VEVENT
BEGIN:VEVENT
DTSTART;TZID=America/New_York:20260210T160000
DTEND;TZID=America/New_York:20260213T180000
DTSTAMP:20260419T090505
CREATED:20260129T185539Z
LAST-MODIFIED:20260129T185539Z
UID:8055-1770739200-1771005600@corkdining.com
SUMMARY:Cork - Happy Hour: Drinks & Bites
DESCRIPTION:
URL:https://corkdining.com/event/cork-happy-hour-drinks-bites-2/
LOCATION:Cork Dining\, 463 Madison St\, Wilkes-Barre\, PA\, 18705\, United States
CATEGORIES:Happy Hour
ATTACH;FMTTYPE=image/jpeg:https://corkdining.com/wp-content/uploads/2026/01/Cork-Happy-Hour-Instagram-Post-45.jpg
END:VEVENT
BEGIN:VEVENT
DTSTART;TZID=America/New_York:20260211T150000
DTEND;TZID=America/New_York:20260211T210000
DTSTAMP:20260419T090505
CREATED:20260129T184114Z
LAST-MODIFIED:20260129T184532Z
UID:8046-1770822000-1770843600@corkdining.com
SUMMARY:Cork - Clam Night
DESCRIPTION:Clam Night at Cork\n$8 Steamers\n$10 Bianco\n$10 Fra Diablo\n\n\nDoors open at 3PM\nHappy Hour 4–6PM\n\n\nCall 570-270-3818 or click the link below for reservations\n\n\nhttps://corkdining.com/reservations/
URL:https://corkdining.com/event/cork-clam-night-2/
LOCATION:Cork Dining\, 463 Madison St\, Wilkes-Barre\, PA\, 18705\, United States
CATEGORIES:Clam Night
ATTACH;FMTTYPE=image/jpeg:https://corkdining.com/wp-content/uploads/2025/07/clam-night-cork.jpg
END:VEVENT
BEGIN:VEVENT
DTSTART;TZID=America/New_York:20260212T150000
DTEND;TZID=America/New_York:20260212T210000
DTSTAMP:20260419T090505
CREATED:20260129T184559Z
LAST-MODIFIED:20260129T184559Z
UID:8050-1770908400-1770930000@corkdining.com
SUMMARY:Cork - Frugal Foodie
DESCRIPTION:
URL:https://corkdining.com/event/cork-frugal-foodie-2/
LOCATION:Cork Dining\, 463 Madison St\, Wilkes-Barre\, PA\, 18705\, United States
CATEGORIES:Frugal Foodie
ATTACH;FMTTYPE=image/jpeg:https://corkdining.com/wp-content/uploads/2025/06/Cork-Frugal-Foodie.jpg
END:VEVENT
BEGIN:VEVENT
DTSTART;TZID=America/New_York:20260215T150000
DTEND;TZID=America/New_York:20260215T200000
DTSTAMP:20260419T090505
CREATED:20260129T183220Z
LAST-MODIFIED:20260129T183220Z
UID:8042-1771167600-1771185600@corkdining.com
SUMMARY:Cork - Sinatra Sunday
DESCRIPTION:
URL:https://corkdining.com/event/cork-sinatra-sunday-7/
LOCATION:Cork Dining\, 463 Madison St\, Wilkes-Barre\, PA\, 18705\, United States
CATEGORIES:Sinatra Sunday
ATTACH;FMTTYPE=image/jpeg:https://corkdining.com/wp-content/uploads/2025/12/Sinatra-Sunday.jpg
END:VEVENT
BEGIN:VEVENT
DTSTART;TZID=America/New_York:20260217T160000
DTEND;TZID=America/New_York:20260220T180000
DTSTAMP:20260419T090505
CREATED:20260129T185616Z
LAST-MODIFIED:20260129T185616Z
UID:8056-1771344000-1771610400@corkdining.com
SUMMARY:Cork - Happy Hour: Drinks & Bites
DESCRIPTION:
URL:https://corkdining.com/event/cork-happy-hour-drinks-bites-3/
LOCATION:Cork Dining\, 463 Madison St\, Wilkes-Barre\, PA\, 18705\, United States
CATEGORIES:Happy Hour
ATTACH;FMTTYPE=image/jpeg:https://corkdining.com/wp-content/uploads/2026/01/Cork-Happy-Hour-Instagram-Post-45.jpg
END:VEVENT
BEGIN:VEVENT
DTSTART;TZID=America/New_York:20260217T183000
DTEND;TZID=America/New_York:20260217T203000
DTSTAMP:20260419T090505
CREATED:20260129T183510Z
LAST-MODIFIED:20260129T184512Z
UID:8044-1771353000-1771360200@corkdining.com
SUMMARY:Cork - Mardi Gras
DESCRIPTION:
URL:https://corkdining.com/event/cork-mardi-gras/
LOCATION:Cork Dining\, 463 Madison St\, Wilkes-Barre\, PA\, 18705\, United States
CATEGORIES:Mardi Gras
ATTACH;FMTTYPE=image/jpeg:https://corkdining.com/wp-content/uploads/2026/01/Cork-Mardi-Gras-Dinner.jpg
END:VEVENT
BEGIN:VEVENT
DTSTART;TZID=America/New_York:20260218T150000
DTEND;TZID=America/New_York:20260218T210000
DTSTAMP:20260419T090505
CREATED:20260129T184137Z
LAST-MODIFIED:20260129T184444Z
UID:8047-1771426800-1771448400@corkdining.com
SUMMARY:Cork - Clam Night
DESCRIPTION:Clam Night at Cork\n$8 Steamers\n$10 Bianco\n$10 Fra Diablo\n\n\nDoors open at 3PM\nHappy Hour 4–6PM\n\n\nCall 570-270-3818 or click the link below for reservations\n\n\nhttps://corkdining.com/reservations/
URL:https://corkdining.com/event/cork-clam-night-3/
LOCATION:Cork Dining\, 463 Madison St\, Wilkes-Barre\, PA\, 18705\, United States
CATEGORIES:Clam Night
ATTACH;FMTTYPE=image/jpeg:https://corkdining.com/wp-content/uploads/2025/07/clam-night-cork.jpg
END:VEVENT
BEGIN:VEVENT
DTSTART;TZID=America/New_York:20260219T150000
DTEND;TZID=America/New_York:20260219T210000
DTSTAMP:20260419T090505
CREATED:20260129T184625Z
LAST-MODIFIED:20260129T184625Z
UID:8051-1771513200-1771534800@corkdining.com
SUMMARY:Cork - Frugal Foodie
DESCRIPTION:
URL:https://corkdining.com/event/cork-frugal-foodie-3/
LOCATION:Cork Dining\, 463 Madison St\, Wilkes-Barre\, PA\, 18705\, United States
CATEGORIES:Frugal Foodie
ATTACH;FMTTYPE=image/jpeg:https://corkdining.com/wp-content/uploads/2025/06/Cork-Frugal-Foodie.jpg
END:VEVENT
BEGIN:VEVENT
DTSTART;TZID=America/New_York:20260222T150000
DTEND;TZID=America/New_York:20260222T200000
DTSTAMP:20260419T090505
CREATED:20260129T183249Z
LAST-MODIFIED:20260129T183249Z
UID:8043-1771772400-1771790400@corkdining.com
SUMMARY:Cork - Sinatra Sunday
DESCRIPTION:
URL:https://corkdining.com/event/cork-sinatra-sunday-8/
LOCATION:Cork Dining\, 463 Madison St\, Wilkes-Barre\, PA\, 18705\, United States
CATEGORIES:Sinatra Sunday
ATTACH;FMTTYPE=image/jpeg:https://corkdining.com/wp-content/uploads/2026/01/Cork-Sinatra-Sunday-Menu.jpg
END:VEVENT
BEGIN:VEVENT
DTSTART;TZID=America/New_York:20260224T160000
DTEND;TZID=America/New_York:20260227T180000
DTSTAMP:20260419T090505
CREATED:20260129T185644Z
LAST-MODIFIED:20260129T185644Z
UID:8057-1771948800-1772215200@corkdining.com
SUMMARY:Cork - Happy Hour: Drinks & Bites
DESCRIPTION:
URL:https://corkdining.com/event/cork-happy-hour-drinks-bites-4/
LOCATION:Cork Dining\, 463 Madison St\, Wilkes-Barre\, PA\, 18705\, United States
CATEGORIES:Happy Hour
ATTACH;FMTTYPE=image/jpeg:https://corkdining.com/wp-content/uploads/2026/01/Cork-Happy-Hour-Instagram-Post-45.jpg
END:VEVENT
BEGIN:VEVENT
DTSTART;TZID=America/New_York:20260225T150000
DTEND;TZID=America/New_York:20260225T210000
DTSTAMP:20260419T090505
CREATED:20260129T184204Z
LAST-MODIFIED:20260129T184428Z
UID:8048-1772031600-1772053200@corkdining.com
SUMMARY:Cork - Clam Night
DESCRIPTION:Clam Night at Cork\n$8 Steamers\n$10 Bianco\n$10 Fra Diablo\n\n\nDoors open at 3PM\nHappy Hour 4–6PM\n\n\nCall 570-270-3818 or click the link below for reservations\n\n\nhttps://corkdining.com/reservations/
URL:https://corkdining.com/event/cork-clam-night-4/
LOCATION:Cork Dining\, 463 Madison St\, Wilkes-Barre\, PA\, 18705\, United States
CATEGORIES:Clam Night
ATTACH;FMTTYPE=image/jpeg:https://corkdining.com/wp-content/uploads/2025/07/clam-night-cork.jpg
END:VEVENT
BEGIN:VEVENT
DTSTART;TZID=America/New_York:20260226T150000
DTEND;TZID=America/New_York:20260226T210000
DTSTAMP:20260419T090505
CREATED:20260129T184654Z
LAST-MODIFIED:20260129T184654Z
UID:8052-1772118000-1772139600@corkdining.com
SUMMARY:Cork - Frugal Foodie
DESCRIPTION:
URL:https://corkdining.com/event/cork-frugal-foodie-4/
LOCATION:Cork Dining\, 463 Madison St\, Wilkes-Barre\, PA\, 18705\, United States
CATEGORIES:Frugal Foodie
ATTACH;FMTTYPE=image/jpeg:https://corkdining.com/wp-content/uploads/2025/06/Cork-Frugal-Foodie.jpg
END:VEVENT
BEGIN:VEVENT
DTSTART;TZID=America/New_York:20260419T150000
DTEND;TZID=America/New_York:20260419T200000
DTSTAMP:20260419T090505
CREATED:20260417T153323Z
LAST-MODIFIED:20260417T153323Z
UID:8098-1776610800-1776628800@corkdining.com
SUMMARY:Cork - Sinatra Sunday
DESCRIPTION:
URL:https://corkdining.com/event/cork-sinatra-sunday-9/
LOCATION:Cork Dining\, 463 Madison St\, Wilkes-Barre\, PA\, 18705\, United States
CATEGORIES:Sinatra Sunday
ATTACH;FMTTYPE=image/jpeg:https://corkdining.com/wp-content/uploads/2026/01/Cork-Sinatra-Sunday-Menu.jpg
END:VEVENT
BEGIN:VEVENT
DTSTART;TZID=America/New_York:20260423T150000
DTEND;TZID=America/New_York:20260423T210000
DTSTAMP:20260419T090505
CREATED:20260417T153053Z
LAST-MODIFIED:20260417T153053Z
UID:8094-1776956400-1776978000@corkdining.com
SUMMARY:Cork - Frugal Foodie
DESCRIPTION:
URL:https://corkdining.com/event/cork-frugal-foodie-5/
LOCATION:Cork Dining\, 463 Madison St\, Wilkes-Barre\, PA\, 18705\, United States
CATEGORIES:Frugal Foodie
ATTACH;FMTTYPE=image/jpeg:https://corkdining.com/wp-content/uploads/2025/06/Cork-Frugal-Foodie.jpg
END:VEVENT
BEGIN:VEVENT
DTSTART;TZID=America/New_York:20260426T150000
DTEND;TZID=America/New_York:20260426T200000
DTSTAMP:20260419T090505
CREATED:20260417T153350Z
LAST-MODIFIED:20260417T153350Z
UID:8099-1777215600-1777233600@corkdining.com
SUMMARY:Cork - Sinatra Sunday
DESCRIPTION:
URL:https://corkdining.com/event/cork-sinatra-sunday-10/
LOCATION:Cork Dining\, 463 Madison St\, Wilkes-Barre\, PA\, 18705\, United States
CATEGORIES:Sinatra Sunday
ATTACH;FMTTYPE=image/jpeg:https://corkdining.com/wp-content/uploads/2026/01/Cork-Sinatra-Sunday-Menu.jpg
END:VEVENT
BEGIN:VEVENT
DTSTART;TZID=America/New_York:20260503T150000
DTEND;TZID=America/New_York:20260503T200000
DTSTAMP:20260419T090505
CREATED:20260417T153428Z
LAST-MODIFIED:20260417T153428Z
UID:8100-1777820400-1777838400@corkdining.com
SUMMARY:Cork - Sinatra Sunday
DESCRIPTION:
URL:https://corkdining.com/event/cork-sinatra-sunday-11/
LOCATION:Cork Dining\, 463 Madison St\, Wilkes-Barre\, PA\, 18705\, United States
CATEGORIES:Sinatra Sunday
ATTACH;FMTTYPE=image/jpeg:https://corkdining.com/wp-content/uploads/2026/01/Cork-Sinatra-Sunday-Menu.jpg
END:VEVENT
BEGIN:VEVENT
DTSTART;TZID=America/New_York:20260507T150000
DTEND;TZID=America/New_York:20260507T210000
DTSTAMP:20260419T090505
CREATED:20260417T153120Z
LAST-MODIFIED:20260417T153143Z
UID:8095-1778166000-1778187600@corkdining.com
SUMMARY:Cork - Frugal Foodie
DESCRIPTION:
URL:https://corkdining.com/event/cork-frugal-foodie-6/
LOCATION:Cork Dining\, 463 Madison St\, Wilkes-Barre\, PA\, 18705\, United States
CATEGORIES:Frugal Foodie
ATTACH;FMTTYPE=image/jpeg:https://corkdining.com/wp-content/uploads/2025/06/Cork-Frugal-Foodie.jpg
END:VEVENT
BEGIN:VEVENT
DTSTART;TZID=America/New_York:20260510T120000
DTEND;TZID=America/New_York:20260510T180000
DTSTAMP:20260419T090505
CREATED:20260417T152918Z
LAST-MODIFIED:20260417T152918Z
UID:8093-1778414400-1778436000@corkdining.com
SUMMARY:Cork - Mother's Day
DESCRIPTION:
URL:https://corkdining.com/event/cork-mothers-day/
LOCATION:Cork Dining\, 463 Madison St\, Wilkes-Barre\, PA\, 18705\, United States
CATEGORIES:Mother's Day
ATTACH;FMTTYPE=image/jpeg:https://corkdining.com/wp-content/uploads/2026/04/Hours.jpg
END:VEVENT
BEGIN:VEVENT
DTSTART;TZID=America/New_York:20260510T150000
DTEND;TZID=America/New_York:20260510T200000
DTSTAMP:20260419T090505
CREATED:20260417T153554Z
LAST-MODIFIED:20260417T153554Z
UID:8101-1778425200-1778443200@corkdining.com
SUMMARY:Cork - Sinatra Sunday
DESCRIPTION:
URL:https://corkdining.com/event/cork-sinatra-sunday-12/
LOCATION:Cork Dining\, 463 Madison St\, Wilkes-Barre\, PA\, 18705\, United States
CATEGORIES:Sinatra Sunday
ATTACH;FMTTYPE=image/jpeg:https://corkdining.com/wp-content/uploads/2026/01/Cork-Sinatra-Sunday-Menu.jpg
END:VEVENT
BEGIN:VEVENT
DTSTART;TZID=America/New_York:20260514T150000
DTEND;TZID=America/New_York:20260514T210000
DTSTAMP:20260419T090505
CREATED:20260417T153211Z
LAST-MODIFIED:20260417T153211Z
UID:8096-1778770800-1778792400@corkdining.com
SUMMARY:Cork - Frugal Foodie
DESCRIPTION:
URL:https://corkdining.com/event/cork-frugal-foodie-7/
LOCATION:Cork Dining\, 463 Madison St\, Wilkes-Barre\, PA\, 18705\, United States
CATEGORIES:Frugal Foodie
ATTACH;FMTTYPE=image/jpeg:https://corkdining.com/wp-content/uploads/2025/06/Cork-Frugal-Foodie.jpg
END:VEVENT
BEGIN:VEVENT
DTSTART;TZID=America/New_York:20260517T150000
DTEND;TZID=America/New_York:20260517T200000
DTSTAMP:20260419T090505
CREATED:20260417T153701Z
LAST-MODIFIED:20260417T153701Z
UID:8102-1779030000-1779048000@corkdining.com
SUMMARY:Cork - Sinatra Sunday
DESCRIPTION:
URL:https://corkdining.com/event/cork-sinatra-sunday-13/
LOCATION:Cork Dining\, 463 Madison St\, Wilkes-Barre\, PA\, 18705\, United States
CATEGORIES:Sinatra Sunday
ATTACH;FMTTYPE=image/jpeg:https://corkdining.com/wp-content/uploads/2026/01/Cork-Sinatra-Sunday-Menu.jpg
END:VEVENT
BEGIN:VEVENT
DTSTART;TZID=America/New_York:20260524T150000
DTEND;TZID=America/New_York:20260524T200000
DTSTAMP:20260419T090505
CREATED:20260417T153726Z
LAST-MODIFIED:20260417T153726Z
UID:8103-1779634800-1779652800@corkdining.com
SUMMARY:Cork - Sinatra Sunday
DESCRIPTION:
URL:https://corkdining.com/event/cork-sinatra-sunday-14/
LOCATION:Cork Dining\, 463 Madison St\, Wilkes-Barre\, PA\, 18705\, United States
CATEGORIES:Sinatra Sunday
ATTACH;FMTTYPE=image/jpeg:https://corkdining.com/wp-content/uploads/2026/01/Cork-Sinatra-Sunday-Menu.jpg
END:VEVENT
BEGIN:VEVENT
DTSTART;TZID=America/New_York:20260528T150000
DTEND;TZID=America/New_York:20260528T210000
DTSTAMP:20260419T090505
CREATED:20260417T153228Z
LAST-MODIFIED:20260417T153246Z
UID:8097-1779980400-1780002000@corkdining.com
SUMMARY:Cork - Frugal Foodie
DESCRIPTION:
URL:https://corkdining.com/event/cork-frugal-foodie-8/
LOCATION:Cork Dining\, 463 Madison St\, Wilkes-Barre\, PA\, 18705\, United States
CATEGORIES:Frugal Foodie
ATTACH;FMTTYPE=image/jpeg:https://corkdining.com/wp-content/uploads/2025/06/Cork-Frugal-Foodie.jpg
END:VEVENT
BEGIN:VEVENT
DTSTART;TZID=America/New_York:20260531T150000
DTEND;TZID=America/New_York:20260531T200000
DTSTAMP:20260419T090505
CREATED:20260417T153754Z
LAST-MODIFIED:20260417T153754Z
UID:8104-1780239600-1780257600@corkdining.com
SUMMARY:Cork - Sinatra Sunday
DESCRIPTION:
URL:https://corkdining.com/event/cork-sinatra-sunday-15/
LOCATION:Cork Dining\, 463 Madison St\, Wilkes-Barre\, PA\, 18705\, United States
CATEGORIES:Sinatra Sunday
ATTACH;FMTTYPE=image/jpeg:https://corkdining.com/wp-content/uploads/2026/01/Cork-Sinatra-Sunday-Menu.jpg
END:VEVENT
END:VCALENDAR