BEGIN:VCALENDAR
VERSION:2.0
PRODID:-//Cork Bar &amp; Restaurant - ECPv6.15.17//NONSGML v1.0//EN
CALSCALE:GREGORIAN
METHOD:PUBLISH
X-ORIGINAL-URL:https://corkdining.com
X-WR-CALDESC:Events for Cork Bar &amp; Restaurant
REFRESH-INTERVAL;VALUE=DURATION:PT1H
X-Robots-Tag:noindex
X-PUBLISHED-TTL:PT1H
BEGIN:VTIMEZONE
TZID:America/New_York
BEGIN:DAYLIGHT
TZOFFSETFROM:-0500
TZOFFSETTO:-0400
TZNAME:EDT
DTSTART:20250309T070000
END:DAYLIGHT
BEGIN:STANDARD
TZOFFSETFROM:-0400
TZOFFSETTO:-0500
TZNAME:EST
DTSTART:20251102T060000
END:STANDARD
BEGIN:DAYLIGHT
TZOFFSETFROM:-0500
TZOFFSETTO:-0400
TZNAME:EDT
DTSTART:20260308T070000
END:DAYLIGHT
BEGIN:STANDARD
TZOFFSETFROM:-0400
TZOFFSETTO:-0500
TZNAME:EST
DTSTART:20261101T060000
END:STANDARD
BEGIN:DAYLIGHT
TZOFFSETFROM:-0500
TZOFFSETTO:-0400
TZNAME:EDT
DTSTART:20270314T070000
END:DAYLIGHT
BEGIN:STANDARD
TZOFFSETFROM:-0400
TZOFFSETTO:-0500
TZNAME:EST
DTSTART:20271107T060000
END:STANDARD
END:VTIMEZONE
BEGIN:VEVENT
DTSTART;TZID=America/New_York:20260426T150000
DTEND;TZID=America/New_York:20260426T200000
DTSTAMP:20260423T045617
CREATED:20260417T153350Z
LAST-MODIFIED:20260417T153350Z
UID:8099-1777215600-1777233600@corkdining.com
SUMMARY:Cork - Sinatra Sunday
DESCRIPTION:
URL:https://corkdining.com/event/cork-sinatra-sunday-10/
LOCATION:Cork Dining\, 463 Madison St\, Wilkes-Barre\, PA\, 18705\, United States
CATEGORIES:Sinatra Sunday
ATTACH;FMTTYPE=image/jpeg:https://corkdining.com/wp-content/uploads/2026/01/Cork-Sinatra-Sunday-Menu.jpg
END:VEVENT
BEGIN:VEVENT
DTSTART;TZID=America/New_York:20260503T150000
DTEND;TZID=America/New_York:20260503T200000
DTSTAMP:20260423T045617
CREATED:20260417T153428Z
LAST-MODIFIED:20260417T153428Z
UID:8100-1777820400-1777838400@corkdining.com
SUMMARY:Cork - Sinatra Sunday
DESCRIPTION:
URL:https://corkdining.com/event/cork-sinatra-sunday-11/
LOCATION:Cork Dining\, 463 Madison St\, Wilkes-Barre\, PA\, 18705\, United States
CATEGORIES:Sinatra Sunday
ATTACH;FMTTYPE=image/jpeg:https://corkdining.com/wp-content/uploads/2026/01/Cork-Sinatra-Sunday-Menu.jpg
END:VEVENT
BEGIN:VEVENT
DTSTART;TZID=America/New_York:20260510T150000
DTEND;TZID=America/New_York:20260510T200000
DTSTAMP:20260423T045617
CREATED:20260417T153554Z
LAST-MODIFIED:20260417T153554Z
UID:8101-1778425200-1778443200@corkdining.com
SUMMARY:Cork - Sinatra Sunday
DESCRIPTION:
URL:https://corkdining.com/event/cork-sinatra-sunday-12/
LOCATION:Cork Dining\, 463 Madison St\, Wilkes-Barre\, PA\, 18705\, United States
CATEGORIES:Sinatra Sunday
ATTACH;FMTTYPE=image/jpeg:https://corkdining.com/wp-content/uploads/2026/01/Cork-Sinatra-Sunday-Menu.jpg
END:VEVENT
BEGIN:VEVENT
DTSTART;TZID=America/New_York:20260517T150000
DTEND;TZID=America/New_York:20260517T200000
DTSTAMP:20260423T045617
CREATED:20260417T153701Z
LAST-MODIFIED:20260417T153701Z
UID:8102-1779030000-1779048000@corkdining.com
SUMMARY:Cork - Sinatra Sunday
DESCRIPTION:
URL:https://corkdining.com/event/cork-sinatra-sunday-13/
LOCATION:Cork Dining\, 463 Madison St\, Wilkes-Barre\, PA\, 18705\, United States
CATEGORIES:Sinatra Sunday
ATTACH;FMTTYPE=image/jpeg:https://corkdining.com/wp-content/uploads/2026/01/Cork-Sinatra-Sunday-Menu.jpg
END:VEVENT
BEGIN:VEVENT
DTSTART;TZID=America/New_York:20260524T150000
DTEND;TZID=America/New_York:20260524T200000
DTSTAMP:20260423T045617
CREATED:20260417T153726Z
LAST-MODIFIED:20260417T153726Z
UID:8103-1779634800-1779652800@corkdining.com
SUMMARY:Cork - Sinatra Sunday
DESCRIPTION:
URL:https://corkdining.com/event/cork-sinatra-sunday-14/
LOCATION:Cork Dining\, 463 Madison St\, Wilkes-Barre\, PA\, 18705\, United States
CATEGORIES:Sinatra Sunday
ATTACH;FMTTYPE=image/jpeg:https://corkdining.com/wp-content/uploads/2026/01/Cork-Sinatra-Sunday-Menu.jpg
END:VEVENT
BEGIN:VEVENT
DTSTART;TZID=America/New_York:20260531T150000
DTEND;TZID=America/New_York:20260531T200000
DTSTAMP:20260423T045617
CREATED:20260417T153754Z
LAST-MODIFIED:20260417T153754Z
UID:8104-1780239600-1780257600@corkdining.com
SUMMARY:Cork - Sinatra Sunday
DESCRIPTION:
URL:https://corkdining.com/event/cork-sinatra-sunday-15/
LOCATION:Cork Dining\, 463 Madison St\, Wilkes-Barre\, PA\, 18705\, United States
CATEGORIES:Sinatra Sunday
ATTACH;FMTTYPE=image/jpeg:https://corkdining.com/wp-content/uploads/2026/01/Cork-Sinatra-Sunday-Menu.jpg
END:VEVENT
END:VCALENDAR